BEGIN:VCALENDAR
VERSION:2.0
PRODID:-//Gorge Grown Food Network - ECPv5.1.4//NONSGML v1.0//EN
CALSCALE:GREGORIAN
METHOD:PUBLISH
X-WR-CALNAME:Gorge Grown Food Network
X-ORIGINAL-URL:https://gorgegrown.com
X-WR-CALDESC:Events for Gorge Grown Food Network
BEGIN:VTIMEZONE
TZID:America/Los_Angeles
BEGIN:DAYLIGHT
TZOFFSETFROM:-0800
TZOFFSETTO:-0700
TZNAME:PDT
DTSTART:20230312T100000
END:DAYLIGHT
BEGIN:STANDARD
TZOFFSETFROM:-0700
TZOFFSETTO:-0800
TZNAME:PST
DTSTART:20231105T090000
END:STANDARD
END:VTIMEZONE
BEGIN:VEVENT
DTSTART;TZID=America/Los_Angeles:20230216T180000
DTEND;TZID=America/Los_Angeles:20230216T193000
DTSTAMP:20260419T193811
CREATED:20230113T190708Z
LAST-MODIFIED:20230119T171608Z
UID:22319-1676570400-1676575800@gorgegrown.com
SUMMARY:Noche de información para los Vendedores de los Mercados de Agricultores Nuevos y Futuros
DESCRIPTION:\n\n¿Tiene preguntas sobre como unirse a un mercado de agricultores? \n¿Tiene un pequeño negocio o sueño con empezar un negocio?\n\n\n  \n\n\nÚnase a nosotros el jueves 16 de febrero de 6:00 p.m. a 7:30 p.m. para aprender como convertirse en un vendedor de los Mercados de Agricultores.\n\n\n\n\n\n\nCubriremos:\n\n\n\n\n\n\n\n\nBeneficios de vender en un Mercado de Agricultores\nOpciones de venta disponibles para usted\nPermisos o exenciones para las que puede calificar\nCómo aplicar a los Mercados de su elección\n\n\n\n\n\n\n\n\n\n\n  \n¡También habrá una oportunidad para una sesión de preguntas y respuestas! \n\nSe proporcionan refrescos ligeros.\nUbicación: Mid Valley- Cafetería de la escuela primaria (3686 Davis Drive en Odell)\n\n\n\n  \n\n\n\n
URL:https://gorgegrown.com/event/noche-de-informacion-para-los-vendedores-de-los-mercados-de-agricultores-nuevos-y-futuros/
LOCATION:Mid Valley Elementary School\, 3686 Davis Drive\, Hood River (Odell)\, United States
ORGANIZER;CN="Gorge%20Grown%20Food%20Network":MAILTO:communications@gorgegrown.com
GEO:45.625275;-121.543396
X-APPLE-STRUCTURED-LOCATION;VALUE=URI;X-ADDRESS=Mid Valley Elementary School 3686 Davis Drive Hood River (Odell) United States;X-APPLE-RADIUS=500;X-TITLE=3686 Davis Drive:geo:-121.543396,45.625275
END:VEVENT
END:VCALENDAR