BEGIN:VCALENDAR
VERSION:2.0
PRODID:-//Gorge Grown Food Network - ECPv5.1.4//NONSGML v1.0//EN
CALSCALE:GREGORIAN
METHOD:PUBLISH
X-WR-CALNAME:Gorge Grown Food Network
X-ORIGINAL-URL:https://gorgegrown.com
X-WR-CALDESC:Events for Gorge Grown Food Network
BEGIN:VTIMEZONE
TZID:America/Los_Angeles
BEGIN:DAYLIGHT
TZOFFSETFROM:-0800
TZOFFSETTO:-0700
TZNAME:PDT
DTSTART:20220313T100000
END:DAYLIGHT
BEGIN:STANDARD
TZOFFSETFROM:-0700
TZOFFSETTO:-0800
TZNAME:PST
DTSTART:20221106T090000
END:STANDARD
END:VTIMEZONE
BEGIN:VEVENT
DTSTART;TZID=America/Los_Angeles:20221203T100000
DTEND;TZID=America/Los_Angeles:20221203T120000
DTSTAMP:20260419T223924
CREATED:20221005T192937Z
LAST-MODIFIED:20221005T192937Z
UID:22197-1670061600-1670068800@gorgegrown.com
SUMMARY:Hood River Farmers Market
DESCRIPTION:Hood River Farmers Market will continue this winter! Shop 10am – Noon under the Ferment Brewing Company tasting room. The market is located on the ground floor\, inside the covered vestibule and the lawn. \n  \nThe market will be held every other Saturday. Exact dates include: \nDecember 3 & 17 (no market 12/24)\nJanuary 7 & 21\nFebruary 4 & 18\nMarch 4 & 18\nApril 1\, 15 and 29 \n  \nThe market will feature a wide variety of local food\, including local produce\, meats\, eggs\, cheese\, baked goods\, honey\, and other artisanal foodstuffs. Customers can also shop for unique handmade gifts from local makers! Find a list of items our vendors expect to have here. We update the fresh sheet each week before the market. \n  \nWe gladly accept credit/debit\, Veggie Rx and SNAP/ EBT. We’ll give an extra $15 to SNAP customers who use their benefits at the market! Stop by the info table for more info on these programs. \n  \n  \n
URL:https://gorgegrown.com/event/hood-river-farmers-market-5/2022-12-03/
LOCATION:Ferment Brewing Company\, 403 Parkway Ave\, Hood River\, OR\, 97031\, United States
ORGANIZER;CN="Gorge%20Grown%20Food%20Network":MAILTO:communications@gorgegrown.com
END:VEVENT
END:VCALENDAR