BEGIN:VCALENDAR
VERSION:2.0
PRODID:-//Gorge Grown Food Network - ECPv5.1.4//NONSGML v1.0//EN
CALSCALE:GREGORIAN
METHOD:PUBLISH
X-WR-CALNAME:Gorge Grown Food Network
X-ORIGINAL-URL:https://gorgegrown.com
X-WR-CALDESC:Events for Gorge Grown Food Network
BEGIN:VTIMEZONE
TZID:America/Los_Angeles
BEGIN:DAYLIGHT
TZOFFSETFROM:-0800
TZOFFSETTO:-0700
TZNAME:PDT
DTSTART:20220313T100000
END:DAYLIGHT
BEGIN:STANDARD
TZOFFSETFROM:-0700
TZOFFSETTO:-0800
TZNAME:PST
DTSTART:20221106T090000
END:STANDARD
END:VTIMEZONE
BEGIN:VEVENT
DTSTART;TZID=America/Los_Angeles:20220727T120000
DTEND;TZID=America/Los_Angeles:20220727T133000
DTSTAMP:20260420T074813
CREATED:20220513T173429Z
LAST-MODIFIED:20220726T164952Z
UID:21874-1658923200-1658928600@gorgegrown.com
SUMMARY:CANCELED DUE TO HEAT: Mobile Farmers Market: Maupin
DESCRIPTION:The Mobile Farmers Market will be in Maupin on 2nd & 4th Wednesdays from 12pm-1:30pm with a van full of fresh 100% locally grown seasonal fruit and veggies. \nFind us in at Kaiser Park (507 Deschutes Ave). \nThe Mobile Farmers Market welcomes Oregon WIC & Senior FDNP Farmers Market Checks\, Debit & Credit and SNAP EBT. \nSNAP customers can get up to $20 free when they use SNAP EBT at the Mobile Market. Gorge Grown also gives 25% off to customers who need help paying for food. \nFind more info and a full Mobile Farmers Market schedule here: https://gorgegrown.com/mobilemarket \nFor the safety of our staff and customers\, Mobile Farmers Markets stops will be canceled when temperatures are over 100 degrees. \n
URL:https://gorgegrown.com/event/mobile-farmers-market-maupin-2-2022-07-27/
LOCATION:Kaiser Park\, 506 Deschutes Ave\, Maupin\, OR\, 97037\, United States
ORGANIZER;CN="Gorge%20Grown%20Food%20Network":MAILTO:communications@gorgegrown.com
END:VEVENT
BEGIN:VEVENT
DTSTART;TZID=America/Los_Angeles:20220727T160000
DTEND;TZID=America/Los_Angeles:20220727T180000
DTSTAMP:20260420T074813
CREATED:20220513T173727Z
LAST-MODIFIED:20220726T164852Z
UID:21886-1658937600-1658944800@gorgegrown.com
SUMMARY:CANCELED DUE TO HEAT: Mobile Farmers Market: The Dalles
DESCRIPTION:\nThe Mobile Farmers Market will be in The Dalles on 2nd & 4th Wednesdays from 4pm-5pm with a van full of fresh 100% locally grown seasonal fruit and veggies. \nFind us in outside The Dalles Transit Center (802 Chenowith Loop Road). \nThe Mobile Farmers Market welcomes Oregon WIC & Senior FDNP Farmers Market Checks\, Debit & Credit and SNAP EBT. \nSNAP customers can get up to $20 free when they use SNAP EBT at the Mobile Market. Gorge Grown also gives 25% off to customers who need help paying for food. \nFind more info and a full Mobile Farmers Market schedule here: https://gorgegrown.com/mobilemarket \nFor the safety of our staff and customers\, Mobile Farmers Markets stops will be canceled when temperatures are over 100 degrees. \n\n
URL:https://gorgegrown.com/event/mobile-farmers-market-the-dalles-3-2022-07-27/
LOCATION:The Dalles Transit Center\, 802 Chenowith Loop Rd\, The Dalles\, OR
ORGANIZER;CN="Gorge%20Grown%20Food%20Network":MAILTO:communications@gorgegrown.com
END:VEVENT
END:VCALENDAR