BEGIN:VCALENDAR
VERSION:2.0
PRODID:-//Gorge Grown Food Network - ECPv5.1.4//NONSGML v1.0//EN
CALSCALE:GREGORIAN
METHOD:PUBLISH
X-WR-CALNAME:Gorge Grown Food Network
X-ORIGINAL-URL:https://gorgegrown.com
X-WR-CALDESC:Events for Gorge Grown Food Network
BEGIN:VTIMEZONE
TZID:America/Los_Angeles
BEGIN:DAYLIGHT
TZOFFSETFROM:-0800
TZOFFSETTO:-0700
TZNAME:PDT
DTSTART:20220313T100000
END:DAYLIGHT
BEGIN:STANDARD
TZOFFSETFROM:-0700
TZOFFSETTO:-0800
TZNAME:PST
DTSTART:20221106T090000
END:STANDARD
END:VTIMEZONE
BEGIN:VEVENT
DTSTART;TZID=America/Los_Angeles:20220630T160000
DTEND;TZID=America/Los_Angeles:20220630T180000
DTSTAMP:20260420T061914
CREATED:20220513T175005Z
LAST-MODIFIED:20220513T175005Z
UID:21946-1656604800-1656612000@gorgegrown.com
SUMMARY:Mobile Farmers Market: Parkdale
DESCRIPTION:\nThe Mobile Farmers Market will be in Parkdale on select Thursdays from 4pm – 6pm with a van full of fresh 100% locally grown seasonal fruit and veggies. \nFind us in outside Parkdale Fire Station (4895 Baseline Drive). \nThe Mobile Farmers Market welcomes Oregon WIC & Senior FDNP Farmers Market Checks\, Debit & Credit and SNAP EBT. \nSNAP customers can get up to $20 free when they use SNAP EBT at the Mobile Market. Gorge Grown also gives 25% off to customers who need help paying for food. \nFind more info and a full Mobile Farmers Market schedule here: https://gorgegrown.com/mobilemarket \nFor the safety of our staff and customers\, Mobile Farmers Markets stops will be canceled when temperatures are over 100 degrees. \n\n
URL:https://gorgegrown.com/event/mobile-farmers-market-parkdale-2/2022-06-30/
LOCATION:Parkdale Fire Station\, 4895 Baseline Drive\, Parkdale\, 97041\, United States
ORGANIZER;CN="Gorge%20Grown%20Food%20Network":MAILTO:communications@gorgegrown.com
END:VEVENT
END:VCALENDAR