BEGIN:VCALENDAR
VERSION:2.0
PRODID:-//Gorge Grown Food Network - ECPv5.1.4//NONSGML v1.0//EN
CALSCALE:GREGORIAN
METHOD:PUBLISH
X-WR-CALNAME:Gorge Grown Food Network
X-ORIGINAL-URL:https://gorgegrown.com
X-WR-CALDESC:Events for Gorge Grown Food Network
BEGIN:VTIMEZONE
TZID:America/Los_Angeles
BEGIN:DAYLIGHT
TZOFFSETFROM:-0800
TZOFFSETTO:-0700
TZNAME:PDT
DTSTART:20220313T100000
END:DAYLIGHT
BEGIN:STANDARD
TZOFFSETFROM:-0700
TZOFFSETTO:-0800
TZNAME:PST
DTSTART:20221106T090000
END:STANDARD
END:VTIMEZONE
BEGIN:VEVENT
DTSTART;TZID=America/Los_Angeles:20220609T123000
DTEND;TZID=America/Los_Angeles:20220609T143000
DTSTAMP:20260420T074818
CREATED:20220513T174356Z
LAST-MODIFIED:20220513T174418Z
UID:21905-1654777800-1654785000@gorgegrown.com
SUMMARY:Mobile Farmers Market: Cascade Locks
DESCRIPTION:\nThe Mobile Farmers Market will be in Cascade Locks on 2nd & 4th Thursdays from 12:30pm – 2:30pm with a van full of fresh 100% locally grown seasonal fruit and veggies. \nFind us in outside Cascade Locks Elementary School (300 SW WaNaPa Street). \nThe Mobile Farmers Market welcomes Oregon WIC & Senior FDNP Farmers Market Checks\, Debit & Credit and SNAP EBT. \nSNAP customers can get up to $20 free when they use SNAP EBT at the Mobile Market. Gorge Grown also gives 25% off to customers who need help paying for food. \nFind more info and a full Mobile Farmers Market schedule here: https://gorgegrown.com/mobilemarket \nFor the safety of our staff and customers\, Mobile Farmers Markets stops will be canceled when temperatures are over 100 degrees. \n\n
URL:https://gorgegrown.com/event/mobile-farmers-market-cascade-locks/2022-06-09/
LOCATION:Cascade Locks Elementary School\, 300 Wa Na Pa\, Cascade Locks\, OR\, United States
ORGANIZER;CN="Gorge%20Grown%20Food%20Network":MAILTO:communications@gorgegrown.com
END:VEVENT
BEGIN:VEVENT
DTSTART;TZID=America/Los_Angeles:20220609T160000
DTEND;TZID=America/Los_Angeles:20220609T210000
DTSTAMP:20260420T074818
CREATED:20220406T185230Z
LAST-MODIFIED:20220512T163656Z
UID:21653-1654790400-1654808400@gorgegrown.com
SUMMARY:Gorge Grown Harvest Dinner 2022
DESCRIPTION:The Harvest Dinner is Gorge Grown Food Network’s only fundraising event. This feast gathers community members\, local food supporters\, farmers\, chefs\, businesses and organizational partners to celebrate the bounty in the heart of the Hood River Valley at Mt. View Orchards. Guests will enjoy delicious courses prepared by Executive Chef Ben Stenn of Celilo Restaurant & Bar. \nThe evening will begin with a delightful cocktail hour at 4:00 featuring appetizers and amazing locally-crafted beer\, cider and non-alcoholic beverages. Enjoy a farm tour and live music from Five Letter Word. \nDinner will begin at 5:00 and highlight dazzling seasonal produce and savory local meat raised right here in the Gorge\, served family style with an assortment of preparations including vegetarian courses. Wine tastings will be served with each course. Featured wineries include Grateful Vineyards\, Stave and Stone Winery\, Syncline Winery. \nIndividual tickets will not be sold at this time\, only tables. Tables will seat up to 6 people. Gather your friends and family for a wonderful evening together. An open pole barn covers this venue. The evening will be lovely rain or shine. \nAll proceeds from this event will benefit Gorge Grown Food Network. Our mission: to build a resilient and inclusive regional food system that improves the health and well-being of our community. Gorge Grown is a community-based nonprofit organization dedicated to supporting local farmers\, ensuring access to healthy food for everyone\, and growing a strong food system in the rural Columbia River Gorge in Oregon and Washington. \nSponsorships are also available. Please see ticket listings for options or call 541-490-6420 or email hannah@gorgegrown.com with questions. \n  \nThank you to our friends and sponsors: \nMt. View Orchards\, Celilo Catering\, Riverhood Rentals\, Grateful Vineyards\, Stave and Stone Winery\, Syncline Winery\, Tetrahedron Wines\, Golden Row Cider\, Blue Bus Cultured Foods. \nPast attendees may recall this event is typically held in fall. To avoid challenges caused by wildfire and smoke\, we have moved this event to the spring.  \nAll sales are final. \n
URL:https://gorgegrown.com/event/gorge-grown-harvest-dinner-2022/
LOCATION:Mt. View Orchards\, 6600 Trout Creek Ridge Road\, Mt. Hood\, OR\, 97041\, United States
ORGANIZER;CN="Gorge%20Grown%20Food%20Network":MAILTO:communications@gorgegrown.com
END:VEVENT
BEGIN:VEVENT
DTSTART;TZID=America/Los_Angeles:20220609T160000
DTEND;TZID=America/Los_Angeles:20220609T180000
DTSTAMP:20260420T074818
CREATED:20220513T174720Z
LAST-MODIFIED:20220513T174731Z
UID:21925-1654790400-1654797600@gorgegrown.com
SUMMARY:Mobile Farmers Market: Carson
DESCRIPTION:\nThe Mobile Farmers Market will be in Carson on 2nd & 4th Thursday from 4pm – 6pm with a van full of fresh 100% locally grown seasonal fruit and veggies. \nFind us in outside Backwoods Brewing (1162 Wind River Highway). \nThe Mobile Farmers Market welcomes Debit & Credit and SNAP EBT. \nSNAP customers can get up to $20 free when they use SNAP EBT at the Mobile Market. Gorge Grown also gives 25% off to customers who need help paying for food. \nFind more info and a full Mobile Farmers Market schedule here: https://gorgegrown.com/mobilemarket \nFor the safety of our staff and customers\, Mobile Farmers Markets stops will be canceled when temperatures are over 100 degrees. \n\n
URL:https://gorgegrown.com/event/mobile-farmers-market-carson-2/2022-06-09/
LOCATION:Backwoods Brewing\, 1162 Wind River Hwy\, Carson\, 98610\, United States
ORGANIZER;CN="Gorge%20Grown%20Food%20Network":MAILTO:communications@gorgegrown.com
END:VEVENT
END:VCALENDAR