BEGIN:VCALENDAR
VERSION:2.0
PRODID:-//Gorge Grown Food Network - ECPv5.1.4//NONSGML v1.0//EN
CALSCALE:GREGORIAN
METHOD:PUBLISH
X-WR-CALNAME:Gorge Grown Food Network
X-ORIGINAL-URL:https://gorgegrown.com
X-WR-CALDESC:Events for Gorge Grown Food Network
BEGIN:VTIMEZONE
TZID:America/Los_Angeles
BEGIN:DAYLIGHT
TZOFFSETFROM:-0800
TZOFFSETTO:-0700
TZNAME:PDT
DTSTART:20220313T100000
END:DAYLIGHT
BEGIN:STANDARD
TZOFFSETFROM:-0700
TZOFFSETTO:-0800
TZNAME:PST
DTSTART:20221106T090000
END:STANDARD
END:VTIMEZONE
BEGIN:VEVENT
DTSTART;TZID=America/Los_Angeles:20220507T090000
DTEND;TZID=America/Los_Angeles:20220507T130000
DTSTAMP:20260420T091730
CREATED:20220215T221923Z
LAST-MODIFIED:20220215T221923Z
UID:21504-1651914000-1651928400@gorgegrown.com
SUMMARY:Hood River Farmers Market
DESCRIPTION:Hood River Farmers Market is open from 9am – 1pm on Saturdays starting the first week in May through the third week in November in the 5th & Columbia lot (501 Columbia Street\, across from Full Sail Brewing). Hood River Farmers Market hosts over 40 vendors every week (and up to 50 in peak summer season) to bring the finest and freshest local foods to our community. \n  \nCustomers can find: farmers with a wide variety of seasonal fruit and vegetables; ranchers with locally raised meat and eggs; fisherpeople with Columbia River Salmon and seafood from coastal fisheries; food artisans with honey\, preserves\, pastries\, pickles\, bread\, cheese and more; local artists and makers who design and make unique crafts and gifts; community organizations sharing information about important causes; live music and activities for youth \n  \nWe accept EBT and Pandemic EBT from any state. SNAP customers can get up to $15 free to spend on local food at the market. (Example: spend $15 + $15 extra = $30 to buy local food) \n  \nLearn more about the market and read our FAQs here. \nFind a Vendor Schedule here. Check out Music and Event info here. \nLearn about becoming a vendor. \n  \n \n  \n
URL:https://gorgegrown.com/event/hood-river-farmers-market-4/2022-05-07/
LOCATION:5th & Columbia lot\, downtown Hood River\, 501 Columbia Street\, Hood River\, OR\, 97031\, United States
ORGANIZER;CN="Gorge%20Grown%20Food%20Network":MAILTO:communications@gorgegrown.com
GEO:45.7103188;-121.515361
X-APPLE-STRUCTURED-LOCATION;VALUE=URI;X-ADDRESS=5th & Columbia lot downtown Hood River 501 Columbia Street Hood River OR 97031 United States;X-APPLE-RADIUS=500;X-TITLE=501 Columbia Street:geo:-121.515361,45.7103188
END:VEVENT
END:VCALENDAR