BEGIN:VCALENDAR
VERSION:2.0
PRODID:-//Gorge Grown Food Network - ECPv5.1.4//NONSGML v1.0//EN
CALSCALE:GREGORIAN
METHOD:PUBLISH
X-WR-CALNAME:Gorge Grown Food Network
X-ORIGINAL-URL:https://gorgegrown.com
X-WR-CALDESC:Events for Gorge Grown Food Network
BEGIN:VTIMEZONE
TZID:America/Los_Angeles
BEGIN:DAYLIGHT
TZOFFSETFROM:-0800
TZOFFSETTO:-0700
TZNAME:PDT
DTSTART:20220313T100000
END:DAYLIGHT
BEGIN:STANDARD
TZOFFSETFROM:-0700
TZOFFSETTO:-0800
TZNAME:PST
DTSTART:20221106T090000
END:STANDARD
END:VTIMEZONE
BEGIN:VEVENT
DTSTART;TZID=America/Los_Angeles:20220414T180000
DTEND;TZID=America/Los_Angeles:20220414T200000
DTSTAMP:20260420T103130
CREATED:20220304T175715Z
LAST-MODIFIED:20220307T181724Z
UID:21595-1649959200-1649966400@gorgegrown.com
SUMMARY:Financial Record Keeping & Analysis Workshop for Small Businesses
DESCRIPTION:Learn from experts at the Small Business Development Center about financial record keeping basics and analysis for your new or small business; including best practices\, rules and tools\, bookkeeping options\, profit/loss structure\, cashflow and local resources available. \nThis is a free and virtual event. Register here. \nThis training is led by Josiah Dean. Josiah has more than 30 years of experience in hospitality management\, graphic design and technology training. He and his wife currently own and operate the award-winning Balch Hotel in Dufur\, Oregon. He has led businesses throughout the US with teams of up to 200 staff members. He earned his MBA from University of Nevada\, Reno where he studied business and non-profits. \nThis event is coordinated by Gorge Grown Food Network and supported by the US Economic Development Administration through a partnership with Mid-Columbia Economic Development District. MCEDD has flexible business lending resources to support agriculture\, food and beverage business in our region. Learn more at mcedd.org/financing. \n
URL:https://gorgegrown.com/event/financial-record-keeping-analysis-workshop-for-small-businesses/
LOCATION:virtual
ORGANIZER;CN="Gorge%20Grown%20Food%20Network":MAILTO:communications@gorgegrown.com
END:VEVENT
END:VCALENDAR