BEGIN:VCALENDAR
VERSION:2.0
PRODID:-//Gorge Grown Food Network - ECPv5.1.4//NONSGML v1.0//EN
CALSCALE:GREGORIAN
METHOD:PUBLISH
X-WR-CALNAME:Gorge Grown Food Network
X-ORIGINAL-URL:https://gorgegrown.com
X-WR-CALDESC:Events for Gorge Grown Food Network
BEGIN:VTIMEZONE
TZID:America/Los_Angeles
BEGIN:DAYLIGHT
TZOFFSETFROM:-0800
TZOFFSETTO:-0700
TZNAME:PDT
DTSTART:20210314T100000
END:DAYLIGHT
BEGIN:STANDARD
TZOFFSETFROM:-0700
TZOFFSETTO:-0800
TZNAME:PST
DTSTART:20211107T090000
END:STANDARD
END:VTIMEZONE
BEGIN:VEVENT
DTSTART;TZID=America/Los_Angeles:20211204T100000
DTEND;TZID=America/Los_Angeles:20211204T120000
DTSTAMP:20260420T163551
CREATED:20211014T180709Z
LAST-MODIFIED:20220304T180313Z
UID:21389-1638612000-1638619200@gorgegrown.com
SUMMARY:Hood River Farmers Market- Winter Season
DESCRIPTION:The market happens the FIRST and THIRD Saturday of the month from 10am – Noon under the Ferment Brewing Company tasting room.\n\nThe market will feature a wide variety of local food\, including local produce\, meats\, eggs\, cheese\, baked goods\, honey\, and other artisanal foodstuffs. Customers can also shop for unique handmade gifts from local makers!\n\nWe gladly accept credit/debit\, Veggie Rx and SNAP/ EBT. We’ll give an extra $15 to SNAP customers who use their benefits at the market! Stop by the info table for more info on these programs.\n\nVendor information is available here: https://gorgegrown.com/farmmarket/vendor\n
URL:https://gorgegrown.com/event/hood-river-farmers-market-winter-season/2021-12-04/
LOCATION:Ferment Brewing Company\, 403 Parkway Ave\, Hood River\, OR\, 97031\, United States
ORGANIZER;CN="Gorge%20Grown%20Food%20Network":MAILTO:communications@gorgegrown.com
END:VEVENT
END:VCALENDAR