BEGIN:VCALENDAR
VERSION:2.0
PRODID:-//Gorge Grown Food Network - ECPv5.1.4//NONSGML v1.0//EN
CALSCALE:GREGORIAN
METHOD:PUBLISH
X-WR-CALNAME:Gorge Grown Food Network
X-ORIGINAL-URL:https://gorgegrown.com
X-WR-CALDESC:Events for Gorge Grown Food Network
BEGIN:VTIMEZONE
TZID:America/Los_Angeles
BEGIN:DAYLIGHT
TZOFFSETFROM:-0800
TZOFFSETTO:-0700
TZNAME:PDT
DTSTART:20210314T100000
END:DAYLIGHT
BEGIN:STANDARD
TZOFFSETFROM:-0700
TZOFFSETTO:-0800
TZNAME:PST
DTSTART:20211107T090000
END:STANDARD
END:VTIMEZONE
BEGIN:VEVENT
DTSTART;TZID=America/Los_Angeles:20210501T090000
DTEND;TZID=America/Los_Angeles:20210501T130000
DTSTAMP:20260421T022759
CREATED:20210407T160029Z
LAST-MODIFIED:20210422T193936Z
UID:20844-1619859600-1619874000@gorgegrown.com
SUMMARY:Hood River Farmers Market
DESCRIPTION:Hood River Farmers Market is open every Saturday\, 9am – 1pm in the 5th & Columbia lot in downtown Hood River\, across from Full Sail Brewing.\nThe market offers the best selection of local foods and goods in the Gorge! Vendors bring the finest and freshest local foods including vegetables\, fruit\, meat\, cheese\, eggs\, baked goods\, honey\, and much more! The market also showcases work and products from local artists and makers.\n\n\n\n  \nFind important COVID-19 market protocols at www.gorgegrown.com/safetyatmarket. *We may need to limit the number of customers inside the market at one time. Please be patient and don’t worry if you see a line outside- it moves quickly!\n\n\n\n  \nCustomers can enjoy free parking in the lot directly west of the market.\nWe offer a $15 SNAP Match- SNAP EBT shoppers can receive an extra $15 to spend on local food at the market. The market also accepts WIC & Senior Farmers Market Checks\, Debit & Credit Cards.\n\n\n\n  \nThe first 20 kids to visit the info booth (orange tent) will get a free $2 token to purchase fruits or veggies at the market!\n\n\n\n  \nFind Fresh Sheets here (a list of products that our vendors expect to bring to the market): www.gorgegrown.com/hoodriverfreshsheets\n\n\n\n  \nWe are looking for volunteers! Sign up here!\n\n\n\n  \nThank you to our 2021 Sponsors:\nBoda’s Kitchen\nBishop Sanitation\nBroder Ost\nDirt Hugger\nMungen Noodle Bard\nNW Natural\nRentner Rust PC\nSheppards\nColumbia Gorge Garlic\nPeachwood Orchard\nNeiko’s Naturals\n
URL:https://gorgegrown.com/event/hood-river-farmers-market/2021-05-01/
LOCATION:5th & Columbia lot\, downtown Hood River\, 501 Columbia Street\, Hood River\, OR\, 97031\, United States
ORGANIZER;CN="Gorge%20Grown%20Food%20Network":MAILTO:communications@gorgegrown.com
GEO:45.7103188;-121.515361
X-APPLE-STRUCTURED-LOCATION;VALUE=URI;X-ADDRESS=5th & Columbia lot downtown Hood River 501 Columbia Street Hood River OR 97031 United States;X-APPLE-RADIUS=500;X-TITLE=501 Columbia Street:geo:-121.515361,45.7103188
END:VEVENT
END:VCALENDAR