BEGIN:VCALENDAR
VERSION:2.0
PRODID:-//Gorge Grown Food Network - ECPv5.1.4//NONSGML v1.0//EN
CALSCALE:GREGORIAN
METHOD:PUBLISH
X-WR-CALNAME:Gorge Grown Food Network
X-ORIGINAL-URL:https://gorgegrown.com
X-WR-CALDESC:Events for Gorge Grown Food Network
BEGIN:VTIMEZONE
TZID:America/Los_Angeles
BEGIN:DAYLIGHT
TZOFFSETFROM:-0800
TZOFFSETTO:-0700
TZNAME:PDT
DTSTART:20210314T100000
END:DAYLIGHT
BEGIN:STANDARD
TZOFFSETFROM:-0700
TZOFFSETTO:-0800
TZNAME:PST
DTSTART:20211107T090000
END:STANDARD
END:VTIMEZONE
BEGIN:VEVENT
DTSTART;TZID=America/Los_Angeles:20210422T173000
DTEND;TZID=America/Los_Angeles:20210422T190000
DTSTAMP:20260421T033319
CREATED:20210407T162751Z
LAST-MODIFIED:20210407T162751Z
UID:20880-1619112600-1619118000@gorgegrown.com
SUMMARY:Crop Talks
DESCRIPTION:Gorge Grown Food Network\, Underwood Conservation District and OSU Extension are offering Crop Talks this spring and summer! \n  \nCrop Talks are held every 4th Thursday of the month at 5:30. This is farmer-friendly time to network and learn from each other. \nApril 22: Gorge Greens \nMay 27: Stamboom Meats \nJune 24: West Balch Ranch \nJuly 22: Columbia Mushroom Co. \nAugust 26: Klickitat Canyon Winery \nSeptember 23: Raíces Cooperative Farm \n  \nRSVP to Dan(at)ucdwa.org for more info and to receive the address. \n  \n  \n
URL:https://gorgegrown.com/event/crop-talks/2021-04-22/
ORGANIZER;CN="Gorge%20Grown%20Food%20Network":MAILTO:communications@gorgegrown.com
END:VEVENT
END:VCALENDAR