BEGIN:VCALENDAR
VERSION:2.0
PRODID:-//Gorge Grown Food Network - ECPv5.1.4//NONSGML v1.0//EN
CALSCALE:GREGORIAN
METHOD:PUBLISH
X-WR-CALNAME:Gorge Grown Food Network
X-ORIGINAL-URL:https://gorgegrown.com
X-WR-CALDESC:Events for Gorge Grown Food Network
BEGIN:VTIMEZONE
TZID:America/Los_Angeles
BEGIN:DAYLIGHT
TZOFFSETFROM:-0800
TZOFFSETTO:-0700
TZNAME:PDT
DTSTART:20200308T100000
END:DAYLIGHT
BEGIN:STANDARD
TZOFFSETFROM:-0700
TZOFFSETTO:-0800
TZNAME:PST
DTSTART:20201101T090000
END:STANDARD
END:VTIMEZONE
BEGIN:VEVENT
DTSTART;TZID=America/Los_Angeles:20201205T100000
DTEND;TZID=America/Los_Angeles:20201205T120000
DTSTAMP:20260421T085038
CREATED:20201105T210642Z
LAST-MODIFIED:20201208T233651Z
UID:20601-1607162400-1607169600@gorgegrown.com
SUMMARY:Hood River Winter Farmers Market
DESCRIPTION:Shop local year round! Hood River Farmers Market continues this winter!\nThe market happens the FIRST and THIRD Saturday of the month (starting December 5) from 10am – Noon under the Ferment Brewing Company tasting room. Our new location provides an outdoor covered space in the winter months. Fresh food and fresh air! Find our COVID safety info here: www.gorgegrown.com/safetyatmarket. \n  \nThe market will feature a wide variety of local food\, including local produce\, meats\, eggs\, cheese\, baked goods\, honey\, and other artisanal foodstuffs. Customers can also shop for unique handmade gifts from local makers! Find a list of items our vendors expect to have here. We update the fresh sheet each week before the market. \n  \nOrder online for easy pick up! \n\n\nTo adapt to physical distancing constrains and winter season challenges\, some vendors will only have their products available for preorder and pickup. Vendors with a booth at the market can also offer preorder and pickup through the online marketplace. See below for a list of vendors we expect at each market. \nShop online for a greater selection of products! \n\n\n\n  \nWe gladly accept credit/debit\, Veggie Rx and SNAP/ EBT. We’ll give an extra $15 to SNAP customers who use their benefits at the market! Stop by the info table for more info on these programs. \n  \nTo keep our community safe and the market open\, we ask that customers:  \n\n\n\n\n\nStay home if you are sick or may have been exposed to COVID 19.\nWash your hands and bring hand sanitizer with you.\nWear a face mask while inside the market.\nNo eating or drinking on site.\nFollow social distancing guides.\nBe patient.\nLeave pets at home. Only service animals (no ESAs) will be permitted.\nLend us a hand if you are able to volunteer!\n\n\n\n\n\nFind our COVID safety info here: www.gorgegrown.com/safetyatmarket. \n\n
URL:https://gorgegrown.com/event/hood-river-winter-farmers-market/2020-12-05/
LOCATION:Ferment Brewing Company\, 403 Parkway Ave\, Hood River\, OR\, 97031
ORGANIZER;CN="Gorge%20Grown%20Food%20Network":MAILTO:communications@gorgegrown.com
END:VEVENT
END:VCALENDAR