BEGIN:VCALENDAR
VERSION:2.0
PRODID:-//Gorge Grown Food Network - ECPv5.1.4//NONSGML v1.0//EN
CALSCALE:GREGORIAN
METHOD:PUBLISH
X-WR-CALNAME:Gorge Grown Food Network
X-ORIGINAL-URL:https://gorgegrown.com
X-WR-CALDESC:Events for Gorge Grown Food Network
BEGIN:VTIMEZONE
TZID:America/Los_Angeles
BEGIN:DAYLIGHT
TZOFFSETFROM:-0800
TZOFFSETTO:-0700
TZNAME:PDT
DTSTART:20200308T100000
END:DAYLIGHT
BEGIN:STANDARD
TZOFFSETFROM:-0700
TZOFFSETTO:-0800
TZNAME:PST
DTSTART:20201101T090000
END:STANDARD
END:VTIMEZONE
BEGIN:VEVENT
DTSTART;TZID=America/Los_Angeles:20201108T120000
DTEND;TZID=America/Los_Angeles:20201108T160000
DTSTAMP:20260421T100745
CREATED:20201016T163319Z
LAST-MODIFIED:20201016T163319Z
UID:20566-1604836800-1604851200@gorgegrown.com
SUMMARY:Fill Your Pantry Market- Preorder Pickup
DESCRIPTION:Rockford Grange’s 6th annual FILL YOUR PANTRY is on!\n\nHere is your chance to safely stock up for winter with storable food products grown by local farmers.  This year’s market will be ONLY through On-line Pre-orders at rockfordgrange.net where you can browse and shop in bulk in an easy-to-use format for locally grown produce\, meats\, grains\, beans\, cheeses\,  herbs\, mushrooms and more.  Online pre-orders are open Oct 19th-Nov 1st.  Drive-by pickup is at the Grange on Sunday\, November 8th\, noon-4pm.\n\nPlease join us in our virtual celebration of the Harvest and help support local food businesses and your community Grange!\n\n
URL:https://gorgegrown.com/event/fill-your-pantry-market-preorder-pickup/
LOCATION:Rockford Grange\, 4250 Barrett Drive\, Hood River\, OR\, 97031\, United States
GEO:45.6787704;-121.564947
X-APPLE-STRUCTURED-LOCATION;VALUE=URI;X-ADDRESS=Rockford Grange 4250 Barrett Drive Hood River OR 97031 United States;X-APPLE-RADIUS=500;X-TITLE=4250 Barrett Drive:geo:-121.564947,45.6787704
END:VEVENT
END:VCALENDAR