BEGIN:VCALENDAR
VERSION:2.0
PRODID:-//Gorge Grown Food Network - ECPv5.1.4//NONSGML v1.0//EN
CALSCALE:GREGORIAN
METHOD:PUBLISH
X-WR-CALNAME:Gorge Grown Food Network
X-ORIGINAL-URL:https://gorgegrown.com
X-WR-CALDESC:Events for Gorge Grown Food Network
BEGIN:VTIMEZONE
TZID:America/Los_Angeles
BEGIN:DAYLIGHT
TZOFFSETFROM:-0800
TZOFFSETTO:-0700
TZNAME:PDT
DTSTART:20200308T100000
END:DAYLIGHT
BEGIN:STANDARD
TZOFFSETFROM:-0700
TZOFFSETTO:-0800
TZNAME:PST
DTSTART:20201101T090000
END:STANDARD
END:VTIMEZONE
BEGIN:VEVENT
DTSTART;TZID=America/Los_Angeles:20201031T090000
DTEND;TZID=America/Los_Angeles:20201031T130000
DTSTAMP:20260423T093647
CREATED:20201021T203752Z
LAST-MODIFIED:20201021T204602Z
UID:20570-1604134800-1604149200@gorgegrown.com
SUMMARY:Hood River Farmers Market: Costume Contest and Fall Fun!
DESCRIPTION: \n  \nPlease note that we require all market attendees and event participants to follow market rules during their visit. Masks are required. Follow 6ft social distancing at all times. No pets are allowed. (Service dogs are permitted). Customer limits may be in place. Thanks for keeping our staff\, volunteers\, vendors\, and community safe! More info: www.gorgegrown.com/safetyatmarket  \n  \nCOSTUME CONTEST: \nCategories include: \n– Best Kids Costume \n– Best Adult Costume \n– Best Vendor Costume \n– Best Family Costume \n  \nTo enter the contest: \n– Dress up in your costume and join us at the market! \n– Find our Costume Contest Photo Booth at the market. Please follow all signage and social distancing queues. \n– Complete the contest entry slip. \n– Get your picture taken by farmers market staff/ volunteers. Each costume will need an individual picture. \n– Costume pictures will be used for online voting. \n– Voting will end November 6 at noon. \n– Winners will be announced November 6th. \n– Winners will receive gift certificates to the farmers market! \n  \nContest Rules \n– Costumes must be appropriate for all ages. \n– Face masks are required. Costume masks or costume face coverings do not qualify as a face mask. You may put a costume mask over a face mask\, just show our volunteers your face mask as you enter. \n  \nTREATS (NO TRICKS) FOR KIDS: \n– Kids that come to the market will receive a market token to purchase fresh fruits or veggies from a farmer \n
URL:https://gorgegrown.com/event/hood-river-farmers-market-costume-contest-and-fall-fun/
LOCATION:5th & Columbia lot\, downtown Hood River\, 501 Columbia Street\, Hood River\, OR\, 97031\, United States
ORGANIZER;CN="Gorge%20Grown%20Food%20Network":MAILTO:communications@gorgegrown.com
GEO:45.7103188;-121.515361
X-APPLE-STRUCTURED-LOCATION;VALUE=URI;X-ADDRESS=5th & Columbia lot downtown Hood River 501 Columbia Street Hood River OR 97031 United States;X-APPLE-RADIUS=500;X-TITLE=501 Columbia Street:geo:-121.515361,45.7103188
END:VEVENT
END:VCALENDAR