BEGIN:VCALENDAR
VERSION:2.0
PRODID:-//Gorge Grown Food Network - ECPv5.1.4//NONSGML v1.0//EN
CALSCALE:GREGORIAN
METHOD:PUBLISH
X-WR-CALNAME:Gorge Grown Food Network
X-ORIGINAL-URL:https://gorgegrown.com
X-WR-CALDESC:Events for Gorge Grown Food Network
BEGIN:VTIMEZONE
TZID:America/Los_Angeles
BEGIN:DAYLIGHT
TZOFFSETFROM:-0800
TZOFFSETTO:-0700
TZNAME:PDT
DTSTART:20200308T100000
END:DAYLIGHT
BEGIN:STANDARD
TZOFFSETFROM:-0700
TZOFFSETTO:-0800
TZNAME:PST
DTSTART:20201101T090000
END:STANDARD
END:VTIMEZONE
BEGIN:VEVENT
DTSTART;TZID=America/Los_Angeles:20200722T120000
DTEND;TZID=America/Los_Angeles:20200722T140000
DTSTAMP:20260423T150916
CREATED:20200710T190007Z
LAST-MODIFIED:20200710T190007Z
UID:20380-1595419200-1595426400@gorgegrown.com
SUMMARY:Mobile Farmers Market Stop: Maupin
DESCRIPTION:Gorge Grown’s Mobile Farmers Market will be in Maupin on the 2nd & 4th Wednesday of the month at Kaiser Park ( Hwy 197 & 6th Street) from 12pm – 2pm with a van full of fresh 100% locally grown seasonal fruit and veggies. Stop by\, stock up\, and say hi!\n\nThe Mobile Farmers Market welcomes WIC & Senior FDNP Farmers Market Checks\, Veggie Rx\, Debit & Credit and SNAP EBT cards- we give a free $10 match on SNAP purchases. Cash is accepted but not preferred.\n\nFind the full Mobile Farmers Market schedule here: https://gorgegrown.com/mobilemarket/\n
URL:https://gorgegrown.com/event/mobile-farmers-market-stop-maupin-2/2020-07-22/
END:VEVENT
END:VCALENDAR