BEGIN:VCALENDAR
VERSION:2.0
PRODID:-//Gorge Grown Food Network - ECPv5.1.4//NONSGML v1.0//EN
CALSCALE:GREGORIAN
METHOD:PUBLISH
X-WR-CALNAME:Gorge Grown Food Network
X-ORIGINAL-URL:https://gorgegrown.com
X-WR-CALDESC:Events for Gorge Grown Food Network
BEGIN:VTIMEZONE
TZID:America/Los_Angeles
BEGIN:DAYLIGHT
TZOFFSETFROM:-0800
TZOFFSETTO:-0700
TZNAME:PDT
DTSTART:20200308T100000
END:DAYLIGHT
BEGIN:STANDARD
TZOFFSETFROM:-0700
TZOFFSETTO:-0800
TZNAME:PST
DTSTART:20201101T090000
END:STANDARD
END:VTIMEZONE
BEGIN:VEVENT
DTSTART;TZID=America/Los_Angeles:20200616T160000
DTEND;TZID=America/Los_Angeles:20200616T190000
DTSTAMP:20260423T161958
CREATED:20200710T182111Z
LAST-MODIFIED:20200914T172036Z
UID:20278-1592323200-1592334000@gorgegrown.com
SUMMARY:Mobile Farmers Market Stop: White Salmon
DESCRIPTION:Gorge Grown’s Mobile Farmers Market will continue in Rheingarten park through October on Tuesday evenings from 4pm – 7pm with a van full of fresh 100% locally grown seasonal fruit and veggies. Stop by\, stock up\, and say hi!\n\nThe Mobile Farmers Market welcomes Veggie Rx\, Debit & Credit and SNAP EBT cards- we give a free $10 match on SNAP purchases. Cash is accepted but not preferred.\n\nFind the full Mobile Farmers Market schedule here: https://gorgegrown.com/mobilemarket/\n
URL:https://gorgegrown.com/event/mobile-farmers-market-stop-white-salmon/2020-06-16/
LOCATION:Rheingarten Park\, 282 N Main Ave\, White Salmon\, WA\, 98672
END:VEVENT
END:VCALENDAR