BEGIN:VCALENDAR
VERSION:2.0
PRODID:-//Gorge Grown Food Network - ECPv5.1.4//NONSGML v1.0//EN
CALSCALE:GREGORIAN
METHOD:PUBLISH
X-WR-CALNAME:Gorge Grown Food Network
X-ORIGINAL-URL:https://gorgegrown.com
X-WR-CALDESC:Events for Gorge Grown Food Network
BEGIN:VTIMEZONE
TZID:America/Los_Angeles
BEGIN:DAYLIGHT
TZOFFSETFROM:-0800
TZOFFSETTO:-0700
TZNAME:PDT
DTSTART:20190310T100000
END:DAYLIGHT
BEGIN:STANDARD
TZOFFSETFROM:-0700
TZOFFSETTO:-0800
TZNAME:PST
DTSTART:20191103T090000
END:STANDARD
END:VTIMEZONE
BEGIN:VEVENT
DTSTART;TZID=America/Los_Angeles:20190913T090000
DTEND;TZID=America/Los_Angeles:20190913T140000
DTSTAMP:20260424T040144
CREATED:20190629T032243Z
LAST-MODIFIED:20190629T032511Z
UID:19340-1568365200-1568383200@gorgegrown.com
SUMMARY:Harvest Dinner 2019
DESCRIPTION:The Harvest Dinner is Gorge Grown Food Network’s (GGFN) only fundraising event. This feast gathers community members\, local food supporters\, farmers\, chefs\, businesses and organizational partners to celebrate the bounty in the heart of the Hood River Valley at Mt. View Orchards. Guests will enjoy many courses with wine pairings prepared by Executive Chef Ben Stenn of Celilo Restaurant & Bar. \nThe evening will begin with a delightful cocktail hour featuring appetizers and amazing locally-crafted beer\, cider and non-alcoholic beverages. Enjoy a farm tour\, silent auction and live music from Bridgid’s Cross. \nDinner will highlight dazzling seasonal produce and savory local meat raised right here in the Gorge\, served family style with an assortment of preparations including vegetarian courses. Wine tastings will be served with each course. \nAll proceeds from this event will benefit Gorge Grown Food Network. Our mission: to build a resilient and inclusive regional food system that improves the health and well-being of our community. Gorge Grown is a community-based nonprofit organization dedicated to supporting local farmers\, ensuring access to healthy food for everyone\, and growing a strong food system in the rural Columbia River Gorge in Oregon and Washington. \nAn open pole barn covers this venue. The evening will be lovely rain or shine. This venue has an open seating arrangement\, larger parties are encouraged to arrive on time to ensure seats together. Sponsorships are also available to reserve tables/ seats together. Please see ticket listings for options or call 541-490-6420 or email hannah@gorgegrown.com with questions. \n  \n
URL:https://gorgegrown.com/event/harvest-dinner-2019/
LOCATION:Mt. View Orchards\, 6600 Trout Creek Ridge Road\, Mt. Hood\, OR\, 97041\, United States
END:VEVENT
END:VCALENDAR